BEGIN:VCALENDAR
VERSION:2.0
PRODID:-//eventon.com NONSGML v1.0//EN
BEGIN:VEVENT
UID:69e7565793343
DTSTAMP:20260421T124959
DTSTART:20240213T150000Z
DTEND:20240213T190000Z
LOCATION:
SUMMARY:2024 / Geschlossene Veranstaltung
DESCRIPTION: Christa Fartek & Robert F.
END:VEVENT
END:VCALENDAR