BEGIN:VCALENDAR
VERSION:2.0
PRODID:-//eventon.com NONSGML v1.0//EN
BEGIN:VEVENT
UID:69e7563caf1a0
DTSTAMP:20260421T124932
DTSTART:20240229T160000Z
DTEND:20240229T190000Z
LOCATION:
SUMMARY:2024 / Geschlossene Veranstaltung
DESCRIPTION: Christa Fartek & Robert F.
END:VEVENT
END:VCALENDAR