BEGIN:VCALENDAR
VERSION:2.0
PRODID:-//eventon.com NONSGML v1.0//EN
BEGIN:VEVENT
UID:69e756632124f
DTSTAMP:20260421T125011
DTSTART:20240314T160000Z
DTEND:20240314T190000Z
LOCATION:
SUMMARY:2024 / Geschlossene Veranstaltung
DESCRIPTION: Christa Fartek & Robert F.
END:VEVENT
END:VCALENDAR