BEGIN:VCALENDAR
VERSION:2.0
PRODID:-//eventon.com NONSGML v1.0//EN
BEGIN:VEVENT
UID:69e756ad0da3a
DTSTAMP:20260421T125125
DTSTART:20240328T160000Z
DTEND:20240328T190000Z
LOCATION:
SUMMARY:2024 / Geschlossene Veranstaltung
DESCRIPTION: Christa Fartek & Robert F.
END:VEVENT
END:VCALENDAR