BEGIN:VCALENDAR
VERSION:2.0
PRODID:-//eventon.com NONSGML v1.0//EN
BEGIN:VEVENT
UID:69e755a91aa69
DTSTAMP:20260421T124705
DTSTART:20231208T130000Z
DTEND:20231208T160000Z
LOCATION:
SUMMARY:2023 / Weihnachten mit Jess Robin & Band / Bacherlwirt Hengsberg- Duette mit Christa Fartek
DESCRIPTION: &nbsp; VVK: 15.- AK: 20.-
END:VEVENT
END:VCALENDAR