BEGIN:VCALENDAR
VERSION:2.0
PRODID:-//eventon.com NONSGML v1.0//EN
BEGIN:VEVENT
UID:69e755f3237fd
DTSTAMP:20260421T124819
DTSTART:20240510T180000Z
DTEND:20240510T210000Z
LOCATION:
SUMMARY:2024 / Christa Fartek Country im Landcafe Kern in Affling 22\,  8572 Bärnbach
DESCRIPTION: 
END:VEVENT
END:VCALENDAR