BEGIN:VCALENDAR
VERSION:2.0
PRODID:-//eventon.com NONSGML v1.0//EN
BEGIN:VEVENT
UID:69e756a57939d
DTSTAMP:20260421T125117
DTSTART:20231223T170000Z
DTEND:20231223T180000Z
LOCATION:
SUMMARY:2023 / St. Nikolaier Advent i. S.
DESCRIPTION: Am Gemeindeplatz\,  unter Dach Freier Eintritt!
END:VEVENT
END:VCALENDAR