BEGIN:VCALENDAR
VERSION:2.0
PRODID:-//eventon.com NONSGML v1.0//EN
BEGIN:VEVENT
UID:69e75658d3d14
DTSTAMP:20260421T125000
DTSTART:20240213T070000Z
DTEND:20240213T110000Z
LOCATION:
SUMMARY:2024 / Faschingsparty im Cafe Jörg Wolf in Feldbach / Einkaufscenter Thaller
DESCRIPTION: 2024 / Faschingsparty im Cafe Jörg Wolf in Feldbach / Einkaufscenter Thaller
END:VEVENT
END:VCALENDAR