BEGIN:VCALENDAR
VERSION:2.0
PRODID:-//eventon.com NONSGML v1.0//EN
BEGIN:VEVENT
UID:69e755f1d384d
DTSTAMP:20260421T124817
DTSTART:20231216T110000Z
DTEND:20231216T140000Z
LOCATION:
SUMMARY:2023 / Euromarkt Kapfenberg Weihnachtsmusik
DESCRIPTION: 
END:VEVENT
END:VCALENDAR