BEGIN:VCALENDAR
VERSION:2.0
PRODID:-//eventon.com NONSGML v1.0//EN
BEGIN:VEVENT
UID:69e755a969971
DTSTAMP:20260421T124705
DTSTART:20240212T120000Z
DTEND:20240212T150000Z
LOCATION:
SUMMARY:2024 / Betreuungsheim Neutillmitsch / Geschlossene Veranstaltung
DESCRIPTION: 2024 / Betreuungsheim Neutillmitsch / Geschlossene Veranstaltung
END:VEVENT
END:VCALENDAR