BEGIN:VCALENDAR
VERSION:2.0
PRODID:-//eventon.com NONSGML v1.0//EN
BEGIN:VEVENT
UID:69e7558ca9c21
DTSTAMP:20260421T124636
DTSTART:20231204T220000Z
DTEND:20231204T220000Z
LOCATION:
SUMMARY:2023 / TV Aufzeichnung Folx TV in Bayern
DESCRIPTION: 2023 / TV Aufzeichnung Folx TV in Bayern
END:VEVENT
END:VCALENDAR