BEGIN:VCALENDAR
VERSION:2.0
PRODID:-//eventon.com NONSGML v1.0//EN
BEGIN:VEVENT
UID:69e755ff376ad
DTSTAMP:20260421T124831
DTSTART:20231231T170000Z
DTEND:20231230T223000Z
LOCATION:
SUMMARY:2023 / Silvesterparty / geschlossene Veranstaltung
DESCRIPTION: 2023 / Silvesterparty / geschlossene Veranstaltung
END:VEVENT
END:VCALENDAR