BEGIN:VCALENDAR
VERSION:2.0
PRODID:-//eventon.com NONSGML v1.0//EN
BEGIN:VEVENT
UID:69e755e169d53
DTSTAMP:20260421T124801
DTSTART:20250131T220000Z
DTEND:20250131T220000Z
LOCATION:
SUMMARY:2025 / Privatfeier
DESCRIPTION: St. Barbara i. M.
END:VEVENT
END:VCALENDAR