BEGIN:VCALENDAR
VERSION:2.0
PRODID:-//eventon.com NONSGML v1.0//EN
BEGIN:VEVENT
UID:69e755a81e568
DTSTAMP:20260421T124704
DTSTART:20231216T203000Z
DTEND:20231215T220000Z
LOCATION:
SUMMARY:2023 / Winterweihnachtszauber in Kalsdorf\,  Sporthalle mit Simone\,  Udo Wenders u.a.
DESCRIPTION: 2023 / Winterweihnachtszauber in Kalsdorf\,  Sporthalle mit Simone\,  Udo Wenders u.a.
END:VEVENT
END:VCALENDAR