BEGIN:VCALENDAR
VERSION:2.0
PRODID:-//eventon.com NONSGML v1.0//EN
BEGIN:VEVENT
UID:69e75707ef2c0
DTSTAMP:20260421T125255
DTSTART:20240706T120000Z
DTEND:20240706T180000Z
LOCATION:
SUMMARY:2024 / Sommerfest in Wetzelsdorfberg / St. Josef
DESCRIPTION: 2024 / Sommerfest in Wetzelsdorfberg / St. Josef
END:VEVENT
END:VCALENDAR