BEGIN:VCALENDAR
VERSION:2.0
PRODID:-//eventon.com NONSGML v1.0//EN
BEGIN:VEVENT
UID:69e7570a3211e
DTSTAMP:20260421T125258
DTSTART:20240824T180000Z
DTEND:20240823T230000Z
LOCATION:
SUMMARY:2024 / Dämmerschoppen Klöch / Christa Fartek Family
DESCRIPTION: 
END:VEVENT
END:VCALENDAR