BEGIN:VCALENDAR
VERSION:2.0
PRODID:-//eventon.com NONSGML v1.0//EN
BEGIN:VEVENT
UID:69e756bd70dd9
DTSTAMP:20260421T125141
DTSTART:20240512T100000Z
DTEND:20240512T160000Z
LOCATION:
SUMMARY:2024 / Christa Fartek & Family Muttertagsgala
DESCRIPTION: Muttertagsgala 2024 Christa Fartek & Family Einlass: ab 12 Uhr Konzertbeginn: 14 Uhr &nbsp; Eintritt: 39 Euro Musik Inkl. Essen (5 verschiedene Speisen) Jede Karte nimmt an der Verlosung teil
END:VEVENT
END:VCALENDAR