BEGIN:VCALENDAR
VERSION:2.0
PRODID:-//eventon.com NONSGML v1.0//EN
BEGIN:VEVENT
UID:69e7577fe5d5e
DTSTAMP:20260421T125455
DTSTART:20241214T140000Z
DTEND:20241213T220000Z
LOCATION:
SUMMARY:2024 / Winterweihnachtszauber Sporthalle Kalsdorf
DESCRIPTION: 
END:VEVENT
END:VCALENDAR