BEGIN:VCALENDAR
VERSION:2.0
PRODID:-//eventon.com NONSGML v1.0//EN
BEGIN:VEVENT
UID:69e7570e46170
DTSTAMP:20260421T125302
DTSTART:20250322T153000Z
DTEND:20250322T210000Z
LOCATION:
SUMMARY:2025 / 20 Jahre Jubiläumsfeier Christa Fartek Musik (klick hier)
DESCRIPTION: 2025 / 20 Jahre Jubiläumsfeier Christa Fartek Musik (klick hier)
END:VEVENT
END:VCALENDAR