BEGIN:VCALENDAR
VERSION:2.0
PRODID:-//eventon.com NONSGML v1.0//EN
BEGIN:VEVENT
UID:69e7570f32154
DTSTAMP:20260421T125303
DTSTART:20240308T180000Z
DTEND:20240308T210000Z
LOCATION:
SUMMARY:Christa Fartek Tanzabend im Thermalhotel Fontana in Bad Radkersburg
DESCRIPTION: 
END:VEVENT
END:VCALENDAR