BEGIN:VCALENDAR
VERSION:2.0
PRODID:-//eventon.com NONSGML v1.0//EN
BEGIN:VEVENT
UID:69e756c850b1a
DTSTAMP:20260421T125152
DTSTART:20240830T170000Z
DTEND:20240829T220000Z
LOCATION:
SUMMARY:2024 / Privatfeier
DESCRIPTION: / Paul G.
END:VEVENT
END:VCALENDAR