BEGIN:VCALENDAR
VERSION:2.0
PRODID:-//eventon.com NONSGML v1.0//EN
BEGIN:VEVENT
UID:69e756c8ccc3c
DTSTAMP:20260421T125152
DTSTART:20240517T160000Z
DTEND:20240517T190000Z
LOCATION:
SUMMARY:2024 / Tanzmusik im Klinikum Bad Gleichenberg im Foyer
DESCRIPTION: 2024 / Tanzmusik im Klinikum Bad Gleichenberg im Foyer
END:VEVENT
END:VCALENDAR