BEGIN:VCALENDAR
VERSION:2.0
PRODID:-//eventon.com NONSGML v1.0//EN
BEGIN:VEVENT
UID:69e755aa1f57c
DTSTAMP:20260421T124706
DTSTART:20240628T163000Z
DTEND:20240628T193000Z
LOCATION:
SUMMARY:2024 / Geschlossene Veranstaltung
DESCRIPTION: 2024 / Geschlossene Veranstaltung
END:VEVENT
END:VCALENDAR