BEGIN:VCALENDAR
VERSION:2.0
PRODID:-//eventon.com NONSGML v1.0//EN
BEGIN:VEVENT
UID:69e756ad446dc
DTSTAMP:20260421T125125
DTSTART:20241219T130000Z
DTEND:20241219T150000Z
LOCATION:
SUMMARY:2024 / Weihnachtsfeier Klinikum Bad Gleichenberg
DESCRIPTION: 2024 / Weihnachtsfeier Klinikum Bad Gleichenberg
END:VEVENT
END:VCALENDAR