BEGIN:VCALENDAR
VERSION:2.0
PRODID:-//eventon.com NONSGML v1.0//EN
BEGIN:VEVENT
UID:69e7558ebbb7d
DTSTAMP:20260421T124638
DTSTART:20240815T120000Z
DTEND:20240815T160000Z
LOCATION:
SUMMARY:2024 / Western Grill beim Bacherlwirt in Hengsberg
DESCRIPTION: 2024 / Western Grill beim Bacherlwirt in Hengsberg
END:VEVENT
END:VCALENDAR