BEGIN:VCALENDAR
VERSION:2.0
PRODID:-//eventon.com NONSGML v1.0//EN
BEGIN:VEVENT
UID:69e755e1d1154
DTSTAMP:20260421T124801
DTSTART:20240810T180000Z
DTEND:20240809T220000Z
LOCATION:
SUMMARY:2024 / Achtung Terminverschiebung auf den 18. Oktober - Country- u. Schlagerabend im Ursprunghof
DESCRIPTION: 2024 / Achtung Terminverschiebung auf den 18. Oktober - Country- u. Schlagerabend im Ursprunghof
END:VEVENT
END:VCALENDAR