BEGIN:VCALENDAR
VERSION:2.0
PRODID:-//eventon.com NONSGML v1.0//EN
BEGIN:VEVENT
UID:69e7571e3a44f
DTSTAMP:20260421T125318
DTSTART:20240621T180000Z
DTEND:20240620T220000Z
LOCATION:
SUMMARY:2024 / Schlagerparty Live mit Christa Fartek & Robert F. im Cafe Pub Krainer Am Bahnhof 4a.\,  8551 Wies
DESCRIPTION: Ab 20 Uhr! Freier Eintritt! &nbsp;
END:VEVENT
END:VCALENDAR