BEGIN:VCALENDAR
VERSION:2.0
PRODID:-//eventon.com NONSGML v1.0//EN
BEGIN:VEVENT
UID:69e756abcdc9f
DTSTAMP:20260421T125123
DTSTART:20240712T120000Z
DTEND:20240712T150000Z
LOCATION:
SUMMARY:2024 / 10 Jahres- Jubiläum Betreutes Wohnen!
DESCRIPTION: 
END:VEVENT
END:VCALENDAR