BEGIN:VCALENDAR
VERSION:2.0
PRODID:-//eventon.com NONSGML v1.0//EN
BEGIN:VEVENT
UID:69e7570d5331d
DTSTAMP:20260421T125301
DTSTART:20240524T180000Z
DTEND:20240524T210000Z
LOCATION:
SUMMARY:Christa Fartek Tanzabend im Thermalhotel Fontana in Bad Radkersburg
DESCRIPTION: Christa Fartek Tanzabend im Thermalhotel Fontana in Bad Radkersburg
END:VEVENT
END:VCALENDAR