BEGIN:VCALENDAR
VERSION:2.0
PRODID:-//eventon.com NONSGML v1.0//EN
BEGIN:VEVENT
UID:69e75760c3805
DTSTAMP:20260421T125424
DTSTART:20240907T150000Z
DTEND:20240907T160000Z
LOCATION:
SUMMARY:2024 / WOAZLN\,  das Original in Premstätten
DESCRIPTION: &nbsp;
END:VEVENT
END:VCALENDAR