BEGIN:VCALENDAR
VERSION:2.0
PRODID:-//eventon.com NONSGML v1.0//EN
BEGIN:VEVENT
UID:69e7570e8ea63
DTSTAMP:20260421T125302
DTSTART:20240614T180000Z
DTEND:20240614T210000Z
LOCATION:
SUMMARY:2024 / Tanzabend im Thermalhotel Fontana in Bad Radkersburg
DESCRIPTION: 2024 / Tanzabend im Thermalhotel Fontana in Bad Radkersburg
END:VEVENT
END:VCALENDAR