BEGIN:VCALENDAR
VERSION:2.0
PRODID:-//eventon.com NONSGML v1.0//EN
BEGIN:VEVENT
UID:69e757614cd9d
DTSTAMP:20260421T125425
DTSTART:20240818T112700Z
DTEND:20240818T112700Z
LOCATION:
SUMMARY:2024 / Tonis Dorfstube in Radochen Sparverein
DESCRIPTION: 2024 / Tonis Dorfstube in Radochen Sparverein
END:VEVENT
END:VCALENDAR