BEGIN:VCALENDAR
VERSION:2.0
PRODID:-//eventon.com NONSGML v1.0//EN
BEGIN:VEVENT
UID:69e5e417a96bf
DTSTAMP:20260420T103015
DTSTART:20240714T080000Z
DTEND:20240714T093000Z
LOCATION:
SUMMARY:2024 / WORTGOTTESDIENST in der Kirche Lödersdorf bei Riegersburg
DESCRIPTION: 
END:VEVENT
END:VCALENDAR