BEGIN:VCALENDAR
VERSION:2.0
PRODID:-//eventon.com NONSGML v1.0//EN
BEGIN:VEVENT
UID:69e729fd0fa01
DTSTAMP:20260421T094045
DTSTART:20240721T160000Z
DTEND:20240721T203000Z
LOCATION:
SUMMARY:2024 / Vollmondnacht im Cafe Restaurant Neptun\,  Naturschwimmbad\,  8091 Jagerberg 141
DESCRIPTION: 
END:VEVENT
END:VCALENDAR