BEGIN:VCALENDAR
VERSION:2.0
PRODID:-//eventon.com NONSGML v1.0//EN
BEGIN:VEVENT
UID:69e7576198ba0
DTSTAMP:20260421T125425
DTSTART:20240517T220000Z
DTEND:20240517T220000Z
LOCATION:
SUMMARY:2024 / Bacherlwirt Hengsberg Tanzmusik
DESCRIPTION: 2024 / Bacherlwirt Hengsberg Tanzmusik
END:VEVENT
END:VCALENDAR