BEGIN:VCALENDAR
VERSION:2.0
PRODID:-//eventon.com NONSGML v1.0//EN
BEGIN:VEVENT
UID:69e755a9a508c
DTSTAMP:20260421T124705
DTSTART:20241127T220000Z
DTEND:20241127T220000Z
LOCATION:
SUMMARY:2024 / Lesung Vulkanlanddichtergilde im Gemeindesaal in Gniebing bei Feldbach (klick hier)
DESCRIPTION: 
END:VEVENT
END:VCALENDAR