BEGIN:VCALENDAR
VERSION:2.0
PRODID:-//eventon.com NONSGML v1.0//EN
BEGIN:VEVENT
UID:69e75776a5619
DTSTAMP:20260421T125446
DTSTART:20240920T220000Z
DTEND:20240920T220000Z
LOCATION:
SUMMARY:2024 / Privatveranstaltung
DESCRIPTION: 2024 / Privatveranstaltung
END:VEVENT
END:VCALENDAR