BEGIN:VCALENDAR
VERSION:2.0
PRODID:-//eventon.com NONSGML v1.0//EN
BEGIN:VEVENT
UID:69e756be27b3d
DTSTAMP:20260421T125142
DTSTART:20240726T150000Z
DTEND:20240726T180000Z
LOCATION:
SUMMARY:2024 / 40. Internationales Lederhosentreffen Windischgarsten 2024 / OÖ
DESCRIPTION: 2024 / 40. Internationales Lederhosentreffen Windischgarsten 2024 / OÖ
END:VEVENT
END:VCALENDAR