BEGIN:VCALENDAR
VERSION:2.0
PRODID:-//eventon.com NONSGML v1.0//EN
BEGIN:VEVENT
UID:69e755f1bb53e
DTSTAMP:20260421T124817
DTSTART:20240727T140000Z
DTEND:20240727T170000Z
LOCATION:
SUMMARY:2024 / Überraschungsgast beim Fest der Vereine in Kalsdorf
DESCRIPTION: 
END:VEVENT
END:VCALENDAR