BEGIN:VCALENDAR
VERSION:2.0
PRODID:-//eventon.com NONSGML v1.0//EN
BEGIN:VEVENT
UID:69e755e016093
DTSTAMP:20260421T124800
DTSTART:20240815T220000Z
DTEND:20240815T220000Z
LOCATION:
SUMMARY:2024 / Geschlossene Veranstaltung
DESCRIPTION: 2024 / Geschlossene Veranstaltung
END:VEVENT
END:VCALENDAR