BEGIN:VCALENDAR
VERSION:2.0
PRODID:-//eventon.com NONSGML v1.0//EN
BEGIN:VEVENT
UID:69e756c88c8f9
DTSTAMP:20260421T125152
DTSTART:20240912T220000Z
DTEND:20240912T220000Z
LOCATION:
SUMMARY:2024 / Geschlossene Veranstaltung
DESCRIPTION: 2024 / Geschlossene Veranstaltung
END:VEVENT
END:VCALENDAR