BEGIN:VCALENDAR
VERSION:2.0
PRODID:-//eventon.com NONSGML v1.0//EN
BEGIN:VEVENT
UID:69e756ad6e4af
DTSTAMP:20260421T125125
DTSTART:20241024T220000Z
DTEND:20241024T220000Z
LOCATION:
SUMMARY:2024 / Geschlossene Veranstaltung
DESCRIPTION: 2024 / Geschlossene Veranstaltung
END:VEVENT
END:VCALENDAR