BEGIN:VCALENDAR
VERSION:2.0
PRODID:-//eventon.com NONSGML v1.0//EN
BEGIN:VEVENT
UID:69e756a75060f
DTSTAMP:20260421T125119
DTSTART:20241106T220000Z
DTEND:20241106T220000Z
LOCATION:
SUMMARY:2024 / Geschlossene Veranstaltung
DESCRIPTION: 2024 / Geschlossene Veranstaltung
END:VEVENT
END:VCALENDAR