BEGIN:VCALENDAR
VERSION:2.0
PRODID:-//eventon.com NONSGML v1.0//EN
BEGIN:VEVENT
UID:69e7558e51c08
DTSTAMP:20260421T124638
DTSTART:20240720T143000Z
DTEND:20240720T173000Z
LOCATION:
SUMMARY:20254 / Altstadthaus Bad Radkersburg
DESCRIPTION: 20254 / Altstadthaus Bad Radkersburg
END:VEVENT
END:VCALENDAR