BEGIN:VCALENDAR
VERSION:2.0
PRODID:-//eventon.com NONSGML v1.0//EN
BEGIN:VEVENT
UID:69e75658a14b8
DTSTAMP:20260421T125000
DTSTART:20241004T180000Z
DTEND:20241004T210000Z
LOCATION:
SUMMARY:2024 / Tanzabend im Thermalhotel Fontana Bad Radkersburg
DESCRIPTION: 2024 / Tanzabend im Thermalhotel Fontana Bad Radkersburg
END:VEVENT
END:VCALENDAR