BEGIN:VCALENDAR
VERSION:2.0
PRODID:-//eventon.com NONSGML v1.0//EN
BEGIN:VEVENT
UID:69e7570d010f2
DTSTAMP:20260421T125301
DTSTART:20241115T180000Z
DTEND:20241115T210000Z
LOCATION:
SUMMARY:2024 / Tanzabend im Thermalhotel Fontana in Bad Radkersburg
DESCRIPTION: 
END:VEVENT
END:VCALENDAR