BEGIN:VCALENDAR
VERSION:2.0
PRODID:-//eventon.com NONSGML v1.0//EN
BEGIN:VEVENT
UID:69e755f2dc590
DTSTAMP:20260421T124818
DTSTART:20241227T180000Z
DTEND:20241227T210000Z
LOCATION:
SUMMARY:2024 / Tanzmusik im Thermalhotel Fontana in Bad Radkersburg (Klick hier!)
DESCRIPTION: 
END:VEVENT
END:VCALENDAR