BEGIN:VCALENDAR
VERSION:2.0
PRODID:-//eventon.com NONSGML v1.0//EN
BEGIN:VEVENT
UID:69e4d45418beb
DTSTAMP:20260419T151044
DTSTART:20241018T170000Z
DTEND:20241017T220000Z
LOCATION:
SUMMARY:2024 / ACHTUNG! Seitens der Veranstalter abgesagt! Country und Schlagermusik beim Ursprunghof in Pirching
DESCRIPTION: 2024 / ACHTUNG! Seitens der Veranstalter abgesagt! Country und Schlagermusik beim Ursprunghof in Pirching
END:VEVENT
END:VCALENDAR