BEGIN:VCALENDAR
VERSION:2.0
PRODID:-//eventon.com NONSGML v1.0//EN
BEGIN:VEVENT
UID:69e5e6f33bad9
DTSTAMP:20260420T104227
DTSTART:20241213T143000Z
DTEND:20241213T170000Z
LOCATION:
SUMMARY:2024 / Laternenfest Kalsdorf Winterzauber
DESCRIPTION: 2024 / Laternenfest Kalsdorf Winterzauber
END:VEVENT
END:VCALENDAR