BEGIN:VCALENDAR
VERSION:2.0
PRODID:-//eventon.com NONSGML v1.0//EN
BEGIN:VEVENT
UID:69e756a743862
DTSTAMP:20260421T125119
DTSTART:20241019T180000Z
DTEND:20241018T220000Z
LOCATION:
SUMMARY:2024 / Benefiz- Gala zugunsten MS bedingter Menschen
DESCRIPTION: 
END:VEVENT
END:VCALENDAR